{"text_format":"1","workbook":"xlsx","n_sheets":8,"sheets":["Orçamento Final","Custos Pessoal","Outros Gastos","Orientações de Preenchimento","Km por percurso","Valor Hora","Cálculo PF e PJ","Espaços físicos"],"not_rendered":{"charts":0,"images":1,"macros":1,"external_links":0,"defined_names":7,"comments":4,"pivot_tables":0},"unopened":[],"bounds":{"document_bytes":16777216,"sheet_cells":100000,"rows_first":2000,"rows_last":500,"rows_between":2000,"halvings":0,"cell_chars":16384,"cell_head_chars":4096},"cells_cut":0,"cells_raw":0,"read":"whole","date_system":"1900"}

{"sheet":"Orçamento Final","index":0,"n_rows":108,"n_cols":9,"rows_kept":108,"cut":false,"hidden":false,"merged":[[3,1,3,2],[3,3,3,5],[4,3,4,5],[4,1,4,2],[8,1,9,2],[21,1,21,2],[40,1,41,2],[101,6,101,7],[39,1,39,5],[11,5,13,5],[18,5,21,5],[18,3,21,3],[11,3,13,3],[11,7,13,7],[18,7,21,7],[11,6,13,6],[18,6,21,6],[15,1,15,2],[18,1,18,2],[19,1,19,2],[20,1,20,2],[104,1,104,4],[105,1,105,4],[107,1,107,4],[102,6,102,7],[87,1,87,3],[96,2,96,4],[94,2,94,4],[95,2,95,4],[92,2,92,4],[93,2,93,4]]}
[null,"Campos editáveis"]
[1,"TIPO DE EVENTO......................"]
[]
[null,"NOME DO EVENTO:"]
[null,"UR QUE REALIZARÁ O EVENTO:"]
[]
[0,"TOTAL DE VAGAS"]
[]
[null,"RECEITAS",null,"Qtde.","Valor","Valor"]
[null,null,null,"Inscritos","Inscrição","Total-R$"]
[null,"Com inscrições"]
[null,"Acadêmicos",null,{"$f":"ROUND(G12,0)","v":0},null,{"$f":"((E12+E13+E14)/H12)*D12","v":{"$error":"#DIV/0!"}},{"$f":"D7*65%","v":0},{"$f":"COUNT(E12:E14)","v":0}]
[null,"Acadêmicos Externos"]
[null,"Outros"]
[null,"Egressos"]
[null,"Bolsa egresso",null,{"$f":"ROUND(G16,0)","v":0},{"$f":"E15*75%","v":0},{"$f":"(D16*E16)","v":0},{"$f":"D7*25%","v":0}]
[null,"Professores"]
[null,"Funcionários"]
[null,"Bolsa funcionário",null,{"$f":"ROUND(G19,0)","v":0},{"$f":"(E18*50%)","v":0},{"$f":"((E19+E20+E21+E22)/I21*D19)","v":{"$error":"#DIV/0!"}},{"$f":"D7*10%","v":0},{"$f":"COUNT(E19:E22)","v":4}]
[null,"Bolsa professores",null,null,{"$f":"(E17*50%)","v":0},null,null,null,{"$f":"COUNTIFS(E19:E22,0)","v":4}]
[null,"Bolsa dependentes externos",null,null,{"$f":"(E14*50%)","v":0},null,null,null,{"$f":"H19-I20","v":0}]
[null,"Bolsa alunos dependentes",null,null,{"$f":"(E12*50%)","v":0}]
[null,"RECEITAS TOTAIS DO PROJETO/EVENTO",null,{"$f":"G12+G13+G14+G16+G19+G20+G21+G22","v":0},null,{"$f":"F12+F16+F19","v":{"$error":"#DIV/0!"}}]
[]
[null,"PERCENTUAIS VARIÁVEIS AO CUSTO",null,null,"%","R$"]
[null,"Taxa administração...................................................",null,"[Percentual]",0.1,{"$f":"F23*E26","v":{"$error":"#DIV/0!"}}]
[null,"Contribuição para Custos Fixos....................................................................................",null,"[Percentual]",0.1,{"$f":"F23*E27","v":{"$error":"#DIV/0!"}}]
[]
[null,null,null,null,{"$f":"SUM(E26:E28)","v":0.2},{"$f":"SUM(F26:F28)","v":{"$error":"#DIV/0!"}}]
[]
[null,"CONTRA PARTIDA APOIO EVENTO",null,"UR:","51.10.05.04.2001",{"$f":"SUM('Outros Gastos'!E7:E10)","v":0}]
[]
[null,"VERBAS DA FAPESC / SUBVENÇÕES.......................................................................",null,null,null,0]
[null,"DOAÇÕES....................................................................................................................",null,null,null,0]
[null,"CONTRA PARTIDA ",null,"UR:",null,0]
[null,"CONTRA PARTIDA ",null,"UR:",null,0]
[null,"CONTRA PARTIDA",null,"UR:",null,0]
[]
[null,"RECEITA LIQUIDA DO PROJETO/EVENTO....................................................................",null,null,null,{"$f":"(F23-F29)+F33+F34+F35+F36+F37","v":{"$error":"#DIV/0!"}}]
[]
[false,"RECEITAS",null,"Qtde","Valor","Valor"]
[null,null,null,"Inscritos","Inscrição","Total-R$"]
[null,"Com inscrições"]
[null,"Acadêmicos",null,null,0,{"$f":"D44*E44","v":0}]
[null,"Acadêmicos Externos",null,null,null,{"$f":"D45*E45","v":0}]
[null,"Professores",null,null,null,0]
[null,"Funcionários",null,null,null,0]
[null,"Outros",null,null,null,0]
[null,"RECEITAS/QTDES TOTAIS ",null,{"$f":"SUM(D43:D48)","v":0},null,{"$f":"SUM(F44:F48)","v":0}]
[]
[null,"PERCENTUAIS VARIÁVEIS AO CUSTO",null,null,"%","R$"]
[null,"Taxa administração...................................................",null,"[Percentual]",0.1,{"$f":"F49*E52","v":0}]
[null,"Contribuição para Custos Fixos....................................................................................",null,"[Percentual]",0.1,{"$f":"F49*E53","v":0}]
[]
[null,null,null,null,{"$f":"SUM(E52:E54)","v":0.2},{"$f":"SUM(F52:F54)","v":0}]
[]
[null,"CONTRA PARTIDA APOIO EVENTO",null,"UR:","51.10.05.04.1001",{"$f":"'Outros Gastos'!E11","v":0}]
[]
[null,"VERBAS DA FAPESC / SUBVENÇÕES.......................................................................",null,null,null,0]
[null,"DOAÇÕES....................................................................................................................",null,null,null,0]
[null,"CONTRA PARTIDA ",null,"UR:",null,0]
[null,"CONTRA PARTIDA ",null,"UR:",null,0]
[null,"CONTRA PARTIDA",null,"UR:",null,0]
[]
[null,"RECEITA LIQUIDA DO PROJETO/EVENTO....................................................................",null,null,null,{"$f":"(F49-F55)+F59+F60+F61+F62+F63","v":0}]
[]
[null,"DESPESAS COM PESSOAL"]
[null,"Com Pessoal UNIVALI"]
[null,"Horas-aula Professores.................................................................",null,null,{"$f":"SUM('Custos Pessoal'!H18:H30)","v":0}]
[null,"Horas-aula Coordenador...............................................................",null,null,{"$f":"SUM('Custos Pessoal'!H60:H61)","v":0}]
[null,"Horas Funcionários...........................................................................",null,null,{"$f":"SUM('Custos Pessoal'!H34:H38)","v":0}]
[null,"13o. Salário......................................................................................",null,null,{"$f":"(N(E69)+N(E70)+N(E71))/12","v":0}]
[null,"Férias + 1/3 Férias..............................................................................",null,null,{"$f":"(N(E69)+N(E70)+N(E71))/12+(E72/3)","v":0}]
[null,"UNIPREV - 8,5%...................................................................................",null,null,{"$f":"($E$69+$E$70+$E$71+$E$72+$E$73)*0.085","v":0}]
[null," FGTS - 8,5%............................................................................................",null,null,{"$f":"($E$69+$E$70+$E$71+$E$72+$E$73)*0.085","v":0}]
[null," PIS - 1%..................................................................................................",null,null,{"$f":"($E$69+$E$70+$E$71+$E$72+$E$73)*0.01","v":0}]
[null,"Transporte/Passagens........................................................................",null,null,{"$f":"SUM('Custos Pessoal'!N18:N38)","v":0}]
[null,"Hospedagem.........................................................................................",null,null,{"$f":"SUM('Custos Pessoal'!Q18:Q38)","v":0}]
[null,"Diárias/Alimentação.....................................................................",null,null,{"$f":"SUM('Custos Pessoal'!T18:T38)","v":0}]
[null,"Outras Despesas...........................................................................",null,null,0]
[null,"Total de despesas com pessoal UNIVALI....................................................................",null,null,null,{"$f":"SUM(E69:E80)","v":0}]
[null,"Com Pessoal Outras Universidades"]
[null,"Terceiros PF (valor para emissão de NFS)...............................................................................................",null,null,{"$f":"'Cálculo PF e PJ'!D9","v":0}]
[null,"Terceiros PJ.....................................................................................",null,null,{"$f":"SUM('Custos Pessoal'!H51:I55)","v":0}]
[null,"Transporte/Passagens.........................................................................",null,null,{"$f":"SUM('Custos Pessoal'!N42:N55)","v":0}]
[null,"Hospedagem..............................................................................................",null,null,{"$f":"SUM('Custos Pessoal'!Q42:Q55)","v":0}]
[null,"Diárias/Alimentação......................................................................",null,null,{"$f":"SUM('Custos Pessoal'!T42:T55)","v":0}]
[null,"Outras Despesas...........................................................................",null,null,0]
[null,"Total de despesas c/ pessoal outras Universidades.....................................................",null,null,null,{"$f":"SUM(E83:E88)","v":0}]
[null,"Total de despesas com pessoal........................................................................................",null,null,null,{"$f":"F81+F89","v":0}]
[]
[null,"OUTRAS DESPESAS E INVESTIMENTOS"]
[null,"Tarifas Bancárias...............................................................................","(valor de 1,60 por boleto)",null,null,0]
[null,"Tarifas Cartão.......................................","(valor de 2,5 % sobre receita faturada)",null,null,0]
[null,"Alugueis, uso de salas/equip.........................................................................................................................","Preencher Planilha anexa 1",null,null,0]
[null,"Material de Consumo..............................................................................................","Preencher Planilha Outros Gastos",null,null,{"$f":"'Outros Gastos'!E40","v":0}]
[null,"Outras Despesas (Informar)................................................................................"]
[null,"Total de outras despesas e Investimentos..........................................................",null,null,null,{"$f":"SUM(F93:F97)","v":0}]
[]
[null,"TOTAL DE DESPESAS DIRETAS DO PROJETO/EVENTO........................................................................",null,null,null,{"$f":"F90+F98","v":0}]
[]
[null,"DÉFICIT OU SUPERÁVIT",null,null,null,{"$f":"F39-F100","v":{"$error":"#DIV/0!"}},null,null,"Curso"]
[null,"DÉFICIT OU SUPERÁVIT",null,null,null,{"$f":"F65-F100","v":0},null,null,"Evento"]
[]
[null,"Valor a ser transferido para o OBC/Compras .................................",null,null,null,{"$f":"E77+E78+E79+F89+F96+F97+E80","v":0}]
[null,"Valor a ser transferido por Realiza Valor OBC...................................",null,null,null,{"$f":"E69+E70+E71+E76+E75+E74+E73+E72","v":0}]
[]
[null,"TOTAL A SER TRANSFERIDO PARA O OBC ...................................................................",null,null,null,{"$f":"F105+F106","v":0}]

{"sheet":"Custos Pessoal","index":1,"n_rows":63,"n_cols":21,"rows_kept":63,"cut":false,"hidden":false,"merged":[[4,14,4,15],[5,1,5,3],[4,1,4,3],[39,14,40,14],[33,1,37,1],[17,1,29,1],[47,0,49,0],[47,2,49,2],[47,3,49,3],[47,14,47,16],[47,17,47,19],[47,7,49,8],[47,20,49,20],[48,10,49,10],[48,11,49,11],[48,13,49,13],[48,14,49,14],[48,16,49,16],[48,17,49,17],[48,19,49,19],[47,9,47,13],[48,12,49,12],[50,7,50,8],[51,7,51,8],[52,7,52,8],[13,2,13,8],[47,4,49,4],[47,5,49,5],[47,6,49,6],[30,20,32,20],[31,10,32,10],[31,11,32,11],[31,12,32,12],[30,5,32,5],[30,6,32,6],[30,7,32,7],[30,8,32,8],[31,13,32,13],[31,16,32,16],[31,17,32,17],[31,19,32,19],[30,14,30,16],[30,17,30,19],[30,0,32,0],[30,2,32,2],[30,3,32,3],[30,4,32,4],[30,9,30,13],[38,17,38,19],[38,20,40,20],[39,10,40,10],[39,11,40,11],[39,12,40,12],[39,13,40,13],[39,16,40,16],[39,17,40,17],[39,19,40,19],[13,20,15,20],[14,2,15,2],[14,3,15,3],[14,7,15,7],[14,8,15,8],[14,10,15,10],[14,11,15,11],[14,12,15,12],[14,13,15,13],[14,14,15,14],[14,16,15,16],[14,17,15,17],[14,19,15,19],[13,9,13,13],[13,14,13,16],[13,17,13,19],[53,7,53,8],[54,7,54,8],[55,0,55,1],[61,0,61,1],[31,14,32,14],[38,0,40,0],[38,2,40,2],[38,3,40,3],[38,4,40,4],[41,1,54,1],[38,9,38,13],[38,14,38,16],[38,5,40,5],[38,6,40,6],[38,7,40,7],[38,8,40,8]]}
[]
[null,null,null,"Campos editáveis"]
[]
[]
["HORA/AULA PROFESSORES",2021,null,null,null,null,"Valor por refeição",null,null,null,null,45]
["Plano Antigo-Especialista-A1",{"$f":"IF(A6=\"\",\"\",VLOOKUP(A6,'Valor Hora'!$A$2:$J$41,10,FALSE))","v":42.52},null,null,null,null,"Valor de quilometragem - consultar planilha Km por percurso"]
[null,{"$f":"IF(A7=\"\",\"\",VLOOKUP(A7,'Valor Hora'!$A$2:$J$41,10,FALSE))","v":""}]
[null,{"$f":"IF(A8=\"\",\"\",VLOOKUP(A8,'Valor Hora'!$A$2:$J$41,10,FALSE))","v":""}]
[null,{"$f":"IF(A9=\"\",\"\",VLOOKUP(A9,'Valor Hora'!$A$2:$J$41,10,FALSE))","v":""},null,null,null,null,null,null,"DURAÇÃO DO PROJETO: ",null,"MESES"]
[]
[]
[]
[]
[null,null,"CUSTO COM PESSOAL",null,null,null,null,null,null,"AUXÍLIO TRANSPORTE/PASSAGENS",null,null,null,null,"HOSPEDAGENS",null,null,"DIÁRIAS/ALIMENTAÇÃO",null,null,"Total Geral-R$"]
["NOME / FUNÇÃO",null,"    ","Qtde   C/H","Vlr. h/a","Salário","Total","Pagamento Bruto","Valor descontado no projeto","Nº de","Tipo","Trecho ","Preço unitário","Total-R$","Qtde.","Preço","Total-R$","Qtde.","Preço","Total-R$"]
[null,null,null,null,"R$","Base Mês","Meses",null,null,"Viagens",null,null,null,null,null,"Unitário-R$",null,null,"Unitário-R$"]
["PROFESSORES (UNIVALI)",null,null,null,null,null,null,{"$f":"IF(OR(ISBLANK(J17),ISTEXT(J17)),\"\",J17*#REF!)","v":""}]
[null,1,null,null,null,{"$f":"D18*E18","v":0},null,{"$f":"F18*G18","v":0},{"$f":"'Cálculo PF e PJ'!I3","v":0},null,null,null,null,{"$f":"J18*M18","v":0},null,null,{"$f":"O18*P18","v":0},null,null,{"$f":"R18*S18","v":0},{"$f":"H18+N18+Q18+T18","v":0}]
[null,null,null,null,null,{"$f":"D19*E19","v":0},null,{"$f":"F19*G19","v":0},{"$f":"'Cálculo PF e PJ'!I4","v":0},null,null,null,null,{"$f":"J19*M19","v":0},null,null,0,null,null,0,0]
[null,null,null,null,null,0,null,0,{"$f":"'Cálculo PF e PJ'!I5","v":0},null,null,null,null,0,null,null,0,null,null,0,0]
[null,null,null,null,null,0,null,0,{"$f":"'Cálculo PF e PJ'!I6","v":0},null,null,null,null,0,null,null,0,null,null,0,0]
[null,null,null,null,null,0,null,0,{"$f":"'Cálculo PF e PJ'!I7","v":0},null,null,null,null,0,null,null,0,null,null,0,0]
[null,null,null,null,null,0,null,0,{"$f":"'Cálculo PF e PJ'!I8","v":0},null,null,null,null,0,null,null,0,null,null,0,0]
[null,null,null,null,null,0,null,0,{"$f":"'Cálculo PF e PJ'!I9","v":0},null,null,null,null,0,null,null,0,null,null,0,0]
[null,null,null,null,null,0,null,0,{"$f":"'Cálculo PF e PJ'!I10","v":0},null,null,null,null,0,null,null,0,null,null,0,0]
[null,null,null,null,null,0,null,0,{"$f":"'Cálculo PF e PJ'!I11","v":0},null,null,null,null,0,null,null,0,null,null,0,0]
[null,null,null,null,null,0,null,0,{"$f":"'Cálculo PF e PJ'!I12","v":0},null,null,null,null,0,null,null,0,null,null,0,0]
[null,null,null,null,null,0,null,0,{"$f":"'Cálculo PF e PJ'!I13","v":0},null,null,null,null,0,null,null,0,null,null,0,0]
[null,null,null,null,null,0,null,0,{"$f":"'Cálculo PF e PJ'!I14","v":0},null,null,null,null,0,null,null,0,null,null,0,0]
[null,null,null,null,null,0,null,0,{"$f":"'Cálculo PF e PJ'!I15","v":0},null,null,null,null,0,null,null,0,null,null,0,0]
["FUNCIONÁRIOS (UNIVALI)",null,null,"C/H","Vlr. h/a","Salário","Meses","Pagamento Bruto","Valor descontado no projeto","AUXÍLIO TRANSPORTE/PASSAGENS",null,null,null,null,"HOSPEDAGENS",null,null,"DIÁRIAS/ALIMENTAÇÃO",null,null,"Total Geral-R$"]
[null,null,null,null,null,null,null,null,null,"Nº de","Tipo","Trecho","Preço unitário","Total-R$","Qtde.","Preço","Total-R$","Qtde.","Preço","Total-R$"]
[null,null,null,null,null,null,null,null,null,"Viagens",null,null,null,null,null,"Unitário-R$",null,null,"Unitário-R$"]
[null,2,null,null,null,{"$f":"D34*E34","v":0},null,{"$f":"F34*G34","v":0},{"$f":"'Cálculo PF e PJ'!I25","v":0},null,null,null,null,{"$f":"J34*M34","v":0},null,null,{"$f":"O34*P34","v":0},null,null,{"$f":"R34*S34","v":0},{"$f":"H34+N34+Q34+T34","v":0}]
[null,null,null,null,null,{"$f":"D35*E35","v":0},null,{"$f":"F35*G35","v":0},{"$f":"'Cálculo PF e PJ'!I26","v":0},null,null,null,null,0,null,null,{"$f":"O35*P35","v":0},null,null,{"$f":"R35*S35","v":0},{"$f":"H35+N35+Q35+T35","v":0}]
[null,null,null,null,null,0,null,{"$f":"F36*G36","v":0},{"$f":"'Cálculo PF e PJ'!I27","v":0},null,null,null,null,0,null,null,0,null,null,0,{"$f":"H36+N36+Q36+T36","v":0}]
[null,null,null,null,null,0,null,{"$f":"F37*G37","v":0},{"$f":"'Cálculo PF e PJ'!I28","v":0},null,null,null,null,0,null,null,0,null,null,0,{"$f":"H37+N37+Q37+T37","v":0}]
[null,null,null,null,null,0,null,{"$f":"F38*G38","v":0},{"$f":"'Cálculo PF e PJ'!I29","v":0},null,null,null,null,0,null,null,0,null,null,0,{"$f":"H38+N38+Q38+T38","v":0}]
["TERCEIROS (EXTERNOS) PF",null,null,"C/H","Vlr. h/a","Salário","Meses","Pagamento Líquido (Sem encargos)","Pagamento Bruto (Para emissão         de NFS)","AUXÍLIO TRANSPORTE/PASSAGENS",null,null,null,null,"HOSPEDAGENS",null,null,"DIÁRIAS/ALIMENTAÇÃO",null,null,"Total Geral-R$"]
[null,null,null,null,null,null,null,null,null,"Nº de","Tipo","Trecho","Preço unitário","Total-R$","Qtde.","Preço","Total-R$","Qtde.","Preço","Total-R$"]
[null,null,null,null,null,null,null,null,null,"Viagens",null,null,null,null,null,"Unitário-R$",null,null,"Unitário-R$"]
[null,3,null,null,null,{"$f":"D42*E42","v":0},null,{"$f":"F42*G42","v":0},{"$f":"'Cálculo PF e PJ'!D3","v":0},null,null,null,null,{"$f":"J42*M42","v":0},null,100,0,null,null,0,{"$f":"H42+N42+Q42+T42","v":0}]
[null,null,null,null,null,0,null,{"$f":"F43*G43","v":0},{"$f":"'Cálculo PF e PJ'!D4","v":0},null,null,null,null,0,null,null,0,null,null,0,{"$f":"H43+N43+Q43+T43","v":0}]
[null,null,null,null,null,0,null,{"$f":"F44*G44","v":0},{"$f":"'Cálculo PF e PJ'!D5","v":0},null,null,null,null,0,null,null,0,null,null,0,{"$f":"H44+N44+Q44+T44","v":0}]
[null,null,null,null,null,0,null,{"$f":"F45*G45","v":0},{"$f":"'Cálculo PF e PJ'!D6","v":0},null,null,null,null,0,null,null,0,null,null,0,{"$f":"H45+N45+Q45+T45","v":0}]
[null,null,null,null,null,0,null,0,{"$f":"'Cálculo PF e PJ'!D7","v":0},null,null,null,null,0,null,null,0,null,null,0,0]
[null,null,null,null,null,0,null,{"$f":"F47*G47","v":0},{"$f":"'Cálculo PF e PJ'!D8","v":0},null,null,null,null,0,null,null,0,null,null,0,{"$f":"H47+N47+Q47+T47","v":0}]
["TERCEIROS (EXTERNOS) PJ",null,null,"C/H","Vlr. h/a","Salário","Meses","Pagamento Bruto                                            (Para emissão de NFS)",null,"AUXÍLIO TRANSPORTE/PASSAGENS",null,null,null,null,"HOSPEDAGENS",null,null,"DIÁRIAS/ALIMENTAÇÃO",null,null,"Total Geral-R$"]
[null,null,null,null,null,null,null,null,null,"Nº de","Tipo","Trecho","Preço unitário","Total-R$","Qtde.","Preço","Total-R$","Qtde.","Preço","Total-R$"]
[null,null,null,null,null,null,null,null,null,"Viagens",null,null,null,null,null,"Unitário-R$",null,null,"Unitário-R$"]
[null,null,null,null,null,{"$f":"D51*E51","v":0},null,{"$f":"F51*G51","v":0},null,null,null,null,null,{"$f":"J51*M51","v":0},null,null,0,null,null,0,{"$f":"H51+N51+Q51+T51","v":0}]
[null,null,null,null,null,0,null,{"$f":"F52*G52","v":0},null,null,null,null,null,0,null,null,0,null,null,0,{"$f":"H52+N52+Q52+T52","v":0}]
[null,null,null,null,null,0,null,{"$f":"F53*G53","v":0},null,null,null,null,null,0,null,null,0,null,null,0,0]
[null,null,null,null,null,0,null,0,null,null,null,null,null,0,null,null,0,null,null,0,0]
[null,null,null,null,null,0,null,0,null,null,null,null,null,0,null,null,0,null,null,0,{"$f":"H55+N55+Q55+T55","v":0}]
["TOTAIS",null,null,null,null,null,null,{"$f":"SUM(H17:H47)+SUM(H51:I55)","v":0},{"$f":"H51+H54+H55","v":0},{"$f":"IF(SUM(J17:J55)=0,\"\",SUM(J17:J55))","v":""},null,null,null,{"$f":"IF(SUM(N17:N55)=0,0,SUM(N17:N55))","v":0},{"$f":"IF(SUM(O17:O55)=0,\"\",SUM(O17:O55))","v":""},null,{"$f":"IF(SUM(Q17:Q55)=0,0,SUM(Q17:Q55))","v":0},{"$f":"IF(SUM(R17:R55)=0,\"\",SUM(R17:R55))","v":""},null,{"$f":"IF(SUM(T17:T55)=0,0,SUM(T17:T55))","v":0},{"$f":"SUM(U18:U55)","v":0}]
[]
["2. Custos com Coordenador Interno"]
["COORDENADOR INTERNO",null,null,"Qtde   C/H","Vlr. Hora","Salário Base mês ","Total Meses","Pagamento Bruto","Valor descontado no projeto"]
[null,null,null,null,null,{"$f":"D60*E60","v":0},null,{"$f":"F60*G60","v":0},{"$f":"'Cálculo PF e PJ'!M3","v":0},null,null,null,null,{"$f":"J60*M60","v":0},null,null,{"$f":"IF(OR(ISBLANK(O60),ISTEXT(O60)),0,O60*P60)","v":0},null,null,{"$f":"IF(OR(ISBLANK(R60),ISTEXT(R60)),0,R60*S60)","v":0},{"$f":"H60+N60+Q60+T60","v":0}]
[null,null,null,null,null,{"$f":"D61*E61","v":0},null,{"$f":"F61*G61","v":0},{"$f":"'Cálculo PF e PJ'!M4","v":0},null,null,null,null,0,null,null,{"$f":"IF(OR(ISBLANK(O61),ISTEXT(O61)),0,O61*P61)","v":0},null,null,{"$f":"IF(OR(ISBLANK(R61),ISTEXT(R61)),0,R61*S61)","v":0},{"$f":"H61+N61+Q61+T61","v":0}]
["TOTAIS",null,null,null,null,null,null,{"$f":"SUM(H60:H61)","v":0},{"$f":"SUM(I60:I61)","v":0},{"$f":"IF(SUM(J60:J61)=0,\"\",SUM(J60:J61))","v":""},null,null,null,{"$f":"SUM(N60:N61)","v":0},{"$f":"IF(SUM(O60:O61)=0,\"\",SUM(O60:O61))","v":""},null,{"$f":"IF(SUM(Q60:Q61)=0,0,SUM(Q60:Q61))","v":0},{"$f":"IF(SUM(R60:R61)=0,\"\",SUM(R60:R61))","v":""},null,{"$f":"IF(SUM(T60:T61)=0,0,SUM(T60:T61))","v":0},{"$f":"SUM(U60:U61)","v":0}]
["TOTAL GERAL CUSTOS COM PESSOAL",null,null,null,null,null,null,{"$f":"H62+H56","v":0},null,null,null,null,null,{"$f":"N62+N56","v":0},null,null,{"$f":"Q62+Q56","v":0},null,null,{"$f":"T62+T56","v":0},{"$f":"U62+U56","v":0}]

{"sheet":"Outros Gastos","index":2,"n_rows":124,"n_cols":5,"rows_kept":124,"cut":false,"hidden":false,"merged":[[3,1,3,4],[39,1,39,3],[10,1,10,3]]}
[]
[null,"Campos editáveis"]
[]
[null,"CERTIFICADOS E MATERIAIS DE CONSUMO"]
[]
[null,"MATERIAL DE CONSUMO (Apoio Institucional):","Quantidade","Valor Unitário","Total"]
[null,"Certificados impressos",null,5,{"$f":"C7*D7","v":0}]
[null,"Certificados online",null,3,0]
[null,"Sistema Elis (inscrições on-line - CURSOS)",null,{"$f":"IF('Orçamento Final'!$D$23<=0,0,IF(AND('Orçamento Final'!$D$23>=1,'Orçamento Final'!$D$23<=100),500,IF('Orçamento Final'!$D$23<=500,1000,IF('Orçamento Final'!$D$23<=1000,1500,IF('Orçamento Final'!$D$23>1000,2000,0)))))","v":0},{"$f":"D9","v":0}]
[null,"Sistema Elis (inscrições on-line - EVENTOS)",null,{"$f":"IF('Orçamento Final'!$D$49<=0,0,IF(AND('Orçamento Final'!$D$49>=1,'Orçamento Final'!$D$49<=100),500,IF('Orçamento Final'!$D$49<=500,1000,IF('Orçamento Final'!$D$49<=1000,1500,IF('Orçamento Final'!$D$49>1000,2000,0)))))","v":0},{"$f":"D10","v":0}]
[null,"TOTAL APOIO INSTITUCIONAL",null,null,{"$f":"SUM(E7:E10)","v":0}]
[]
[]
[null,"Material de Consumo","Quantidade","Valor Unitário","Total"]
[null,null,null,null,{"$f":"C15*D15","v":0}]
[null,null,null,null,0]
[null,null,null,null,0]
[null,null,null,null,0]
[null,null,null,null,0]
[null,null,null,null,0]
[null,null,null,null,0]
[null,null,null,null,0]
[null,null,null,null,0]
[null,null,null,null,0]
[null,null,null,null,0]
[null,null,null,null,0]
[null,null,null,null,0]
[null,null,null,null,0]
[null,null,null,null,0]
[null,null,null,null,0]
[null,null,null,null,0]
[null,null,null,null,0]
[null,null,null,null,0]
[null,null,null,null,0]
[null,null,null,null,0]
[null,null,null,null,0]
[null,null,null,null,0]
[null,null,null,null,0]
[null,null,null,null,0]
[null,"TOTAL MATERIAL DE CONSUMO",null,null,{"$f":"SUM(E15:E39)","v":0}]
[]
[]
[null,"Valores atualizados Coffee Break 2021 (Validar as informações com o Compras)"]
[]
[null,"Serviço buffet"]
[]
[null,"Tipo 01"]
[null,6.5]
[null,"01 mini salgado assado"]
[null,"01 doce simples"]
[null,"café preto"]
[null,"leite"]
[null,"Descartáveis"]
[]
[null,"Tipo 02"]
[null,"R$ 10.25"]
[null,"03 tipos de salgados assados"]
[null,"01 fatia de bolo com cobertura"]
[null,"01 doce simples"]
[null,"café preto"]
[null,"leite"]
[null,"suco ou refri"]
[null,"Descartáveis"]
[]
[null,"Tipo 03"]
[null,11.65]
[null,"02 tipos de salgados assados"]
[null,"01 mini lanche"]
[null,"01 Croissant doce"]
[null,"01 doce simples"]
[null,"café preto"]
[null,"leite"]
[null,"suco ou refri"]
[null,"Descartáveis"]
[]
[null,"Tipo 04"]
[null,13.85]
[null,"03 tipos de salgados assados"]
[null,"02 mini lanche"]
[null,"01 Croissant doce"]
[null,"01 doce simples"]
[null,"café preto"]
[null,"leite"]
[null,"suco ou refri"]
[null,"Descartáveis"]
[]
[null,"Tipo 05"]
[null,17.649999999999999]
[null,"03 tipos de salgados assados"]
[null,"02 mini lanche"]
[null,"01 Croissant doce"]
[null,"01 doce simples"]
[null,"01 salada de frutas"]
[null,"café preto"]
[null,"leite"]
[null,"suco ou refri"]
[null,"Descartáveis"]
[]
[null,"Tipo 06"]
[null,22.25]
[null,"05 tipos de salgados assados"]
[null,"02 mini lanche"]
[null,"02 empadinha ou mini quiche"]
[null,"01 Croissant doce"]
[null,"01 Mini doce"]
[null,"01 doce simples"]
[null,"café preto"]
[null,"leite"]
[null,"suco ou refri"]
[null,"Descartáveis"]
[]
[null,"Tipo 07"]
[null,"R$ 26.15"]
[null,"05 tipos de salgados assados"]
[null,"02 mini lanche"]
[null,"02 empadinha ou mini quiche"]
[null,"01 Croissant doce"]
[null,"01 Mini doce"]
[null,"01 doce simples"]
[null,"01 mini salada de frutas"]
[null,"café preto"]
[null,"leite"]
[null,"suco ou refri"]
[null,"Descartáveis"]

{"sheet":"Orientações de Preenchimento","index":3,"n_rows":21,"n_cols":5,"rows_kept":21,"cut":false,"hidden":false,"merged":[]}
["ABA – ORÇAMENTO FINAL",null,"ABA – CUSTOS PESSOAL",null,"ABA – OUTROS GASTOS"]
["Tipo de Evento: Selecionar uma das opções (Curso ou Evento)",null,"Nesta aba devem ser informadas todas as despesas relacionadas aos pagamentos de honorários, deslocamentos, passagem aérea, hospedagens e diárias de alimentação.",null,"Itens à serem preenchidos:"]
["Nome o Evento:",null,"Itens à serem preenchidos: ",null,"No item MATERIAL DE CONSUMO (APOIO INSTITUCIONAL) em Certificados On-Line: informar a quantidade de certificados à serem emitidos, normalmente é equivalente a quantidade de inscritos + o número de pessoas envolvidas nas comissões. O valor calculado nesse campo, será direcionado automaticamente para a aba Orçamento Final, no item Contrapartida Apoio Evento."]
["UR que realizará o evento:",null,"Duração do Projeto: Informar a quantidade total de meses referente a duração do projeto",null,"Obs.: esse valor não contabiliza no total de despesas do projeto, pois é custeado pela Coordenação de Eventos."]
[]
["Total de vagas: informar a quantidade de vagas para viabilidade do curso/evento",null,"No item CUSTO PESSOA, inserir as seguintes informações:",null,"No item MATERIAL DE CONSUMO, informar as necessidades de compras ou solicitações de suprimentos para o evento/curso, com por exemplo:"]
["No item Receitas: preencher os campos editáveis (em azul)",null,"Nome/Função: Inserir o nome do professor/funcionário e/ou Externos PF/PJ (Pessoa Física | Pessoa Jurídica)",null,"Material Gráfico, brindes, decoração, material de expediente, contratação de transportes (para visitas técnicas), etc, todo e qualquer material de apoio de acordo com as necessidades para realização da proposta do projeto."]
["Caso haja alguma receita de apoio, preencher uma das opções: verbas, doações ou UR de Contrapartida. No caso da opção UR de Contrapartida é necessário informar de qual UR sairá o recurso.",null,"Quantidade C/H: Informar a quantidade de horas relacionadas à atividade dentro do projeto",null,"É importante que todos os itens necessários para realização do evento/curso estejam elencados nesse item, pois somente os itens previstos na planilha poderão ser comprados de acordo com a receita do evento/curso."]
["Os demais Itens dessa planilha não devem ser preenchidos.",null,"Valor h/a R$: Inserir o valor da hora/aula do de acordo com o enquadramento (isso para professores com vínculo e funcionários)",null,"Em relação ao valor unitário dos itens descritos, sugerimos que seja consultado o setor de compras, para verificar se eles possuem essa informação ou ainda, uma consulta prévia na internet, essa última opção é a mais adotada pelos responsáveis dos projetos."]
[null,null,"Total de meses: Informar o total de meses que receberá esses pagamentos",null,"Ao preencher todas essas informações, é importante retornar à aba – Orçamento Final e consulta a linha da planilha referente ao Déficit ou Superávit do projeto. O projeto sempre deverá apresentar um saldo positivo (Superávit). Caso apresente um saldo negativo (Déficit), a sugestão é ajustar os valores das inscrições ou rever as despesas elencadas."]
[]
[null,null,"No item AUXÍLIO TRANSPORTE/PASSAGEM, inserir as seguintes informações:"]
[null,null,"Nº de Viagens: Informar a quantidade de deslocamentos                                                                                                                                            Tipo: informar a modalidade – aéreo, rodoviário, carro                                                                                                                                                 Preço unitário: para a modalidade aéreo e rodoviária fazer uma pesquisa de preço nas agências de competência e para os deslocamentos na modalidade “carro” considerar a Determinação vigente na Universidade."]
[]
[null,null,"No item HOSPEDAGEM, inserir as seguintes informações:"]
[null,null,"Quantidade: informar a quantidade de diárias"]
[null,null,"Preço Unitário:  consultar com o setor de compras, os hotéis conveniados e os preços vigentes"]
[]
[null,null,"No item DIÁRIAS/ALIMENTAÇÃO, inserir as seguintes informações:"]
[null,null,"Quantidade: informar a quantidade de diárias de alimentação"]
[null,null,"Preço unitário: considerar o valor por refeição de acordo com a Determinação vigente na Universidade."]

{"sheet":"Km por percurso","index":4,"n_rows":143,"n_cols":5,"rows_kept":143,"cut":false,"hidden":true,"merged":[[1,0,1,1],[1,2,2,2],[1,3,2,3],[1,4,2,4]]}
["VALOR LITRO",3.2]
["LOCALIDADES",null,"KM","KM PAGA","VALORES PAGOS"]
["PROCEDÊNCIA","DESTINO"]
["Angelina","Santo Amaro",80,{"$f":"C4*0.11","v":8.8000000000000007},{"$f":"D4*$B$1","v":28.160000000000004}]
["Angelina","Taquaras",290,31.9,102.08]
["Balneário Camboriú","Porto Belo",60,6.6,21.12]
["Balneário Camboriú","Nova Trento",63,6.93,22.176000000000002]
["Balneário Camboriú","Piçarras",77,8.4700000000000006,27.104000000000003]
["Balneário Camboriú","Brusque",102,11.22,35.904000000000003]
["Balneário Camboriú","Bombinhas",110,12.1,38.72]
["Balneário Camboriú","Gaspar",122,13.42,42.944000000000003]
["Balneário Camboriú","Biguaçu",125,13.75,44]
["Balneário Camboriú","Blumenau",144,15.84,50.688000000000002]
["Balneário Camboriú","São José",156,17.16,54.912000000000006]
["Balneário Camboriú","Florianópolis",166,18.260000000000002,58.432000000000009]
["Balneário Camboriú","Rio dos Cedros",198,21.78,69.696000000000012]
["Balneário Camboriú","São Francisco",214,23.54,75.328000000000003]
["Balneário Camboriú","Joinville",229,25.19,80.608000000000004]
["Balneário Camboriú","Santo Amaro",230,25.3,80.960000000000008]
["Balneário Camboriú","Jaraguá do Sul",276,30.36,97.152000000000001]
["Balneário Camboriú","Tubarão",365,40.15,128.47999999999999]
["Balneário Camboriú","Curitiba",400,44,140.80000000000001]
["Balneário Camboriú","Criciúma",465,51.15,163.68]
["Balneário Camboriú","Joaçaba",675,74.25,237.60000000000002]
["Balneário Camboriú","Chapecó",1200,132,422.40000000000003]
["Balneário Camboriú","Porto Alegre",1240,136.4,436.48]
["Balneário Camboriú","Lodrina",1280,140.80000000000001,450.56000000000006]
["Biguaçu","Gov. Celso Ramos",60,6.6,21.12]
["Biguaçu","Itapema",76,8.36,26.751999999999999]
["Biguaçu","Tijucas",76,8.36,26.751999999999999]
["Biguaçu","Santo Amaro",84,9.24,29.568000000000001]
["Biguaçu","Porto Belo",96,10.56,33.792000000000002]
["Biguaçu","Imbituba",123,13.53,43.295999999999999]
["Biguaçu","São João Batista",128,14.08,45.056000000000004]
["Biguaçu","Navegantes",156,17.16,54.912000000000006]
["Biguaçu","Angelina",164,{"$f":"C36*0.11","v":18.04},{"$f":"D36*$B$1","v":57.728000000000002}]
["Biguaçu","Penha",190,20.9,66.88]
["Biguaçu","Piçarras",202,22.22,71.103999999999999]
["Biguaçu","Barra Velha",220,24.2,77.44]
["Biguaçu","Brusque",228,25.080000000000002,80.256000000000014]
["Biguaçu","Tubarão",240,26.4,84.48]
["Biguaçu","Blumenau",260,28.6,91.52000000000001]
["Biguaçu","Criciúma",340,37.4,119.68]
["Biguaçu","Joinville",354,38.94,124.608]
["Biguaçu","Arroio Silva",400,44,140.80000000000001]
["Biguaçu","Lages",440,48.4,154.88]
["Biguaçu","Curitiba",526,57.86,185.15200000000002]
["Blumenau","Jaraguá do Sul",130,14.3,45.760000000000005]
["Blumenau","São João Batista",270,29.7,95.04]
["Blumenau","São José",298,32.78,104.89600000000002]
["Bombinhas","Florianópolis",124,13.64,43.648000000000003]
["Camboriú","Piçarras",82,9.02,28.864000000000001]
["Camboriú","São José",148,16.28,52.096000000000004]
["Camboriú","Curitiba",448,49.28,157.69600000000003]
["Florianópolis","Gov. Celso Ramos",90,9.9,31.680000000000003]
["Florianópolis","Santo Amaro",114,12.540000000000001,40.128000000000007]
["Florianópolis","Nova Trento",120,13.2,42.24]
["Florianópolis","São João Batista",168,18.48,59.136000000000003]
["Florianópolis","Angelina",194,21.34,68.287999999999997]
["Florianópolis","São Francisco do Sul",398,43.78,140.096]
["Ilhota","Piçarras",106,11.66,37.312000000000005]
["Itajaí","Balneário Camboriú",22,2.42,7.7439999999999998]
["Itajaí","Penha",26.5,2.915,9.3280000000000012]
["Itajaí","Navegantes",40,4.4000000000000004,14.080000000000002]
["Itajaí","Piçarras",46,5.0599999999999996,16.192]
["Itajaí","Ilhota",60,6.6,21.12]
["Itajaí","Itapema",60,6.6,21.12]
["Itajaí","Nova Trento",60,{"$f":"C68*0.11","v":6.6},{"$f":"D68*$B$1","v":21.12}]
["Itajaí","Gov. Celso Ramos",60,6.6,21.12]
["Itajaí","Barra Velha",64,7.04,22.528000000000002]
["Itajaí","Porto Belo",70,7.7,24.64]
["Itajaí","Bombinhas",72,7.92,25.344000000000001]
["Itajaí","Botuverá",72,7.92,25.344000000000001]
["Itajaí","Brusque",72,7.92,25.344000000000001]
["Itajaí","Tijucas",80,8.8000000000000007,28.160000000000004]
["Itajaí","Gaspar",92,10.119999999999999,32.384]
["Itajaí","Blumenau",114,12.540000000000001,40.128000000000007]
["Itajaí","Luiz Alves",114,12.540000000000001,40.128000000000007]
["Itajaí","Canelinha",120,13.2,42.24]
["Itajaí","Guaramirim",120,13.2,42.24]
["Itajaí","Ascurra",140,15.4,49.28]
["Itajaí","Guabiruba",150,16.5,52.800000000000004]
["Itajaí","Indaial",150,16.5,52.800000000000004]
["Itajaí","Biguaçu",156,17.16,54.912000000000006]
["Itajaí","São João Batista",156,17.16,54.912000000000006]
["Itajaí","Timbó",172,18.920000000000002,60.544000000000011]
["Itajaí","São José",184,20.239999999999998,64.768000000000001]
["Itajaí","São Francisco do Sul",194,21.34,68.287999999999997]
["Itajaí","Florianópolis",196,21.56,68.992000000000004]
["Itajaí","Joinville",196,21.56,68.992000000000004]
["Itajaí","Jaraguá do Sul",198,21.78,69.696000000000012]
["Itajaí","Palhoça",198,21.78,69.696000000000012]
["Itajaí","Tubarão",230,25.3,80.960000000000008]
["Itajaí","Santo Amaro",240,26.4,84.48]
["Itajaí","Rio do Sul",310,34.1,109.12]
["Itajaí","Garopaba",319,35.090000000000003,112.28800000000001]
["Itajaí","Trombudo Central",340,37.4,119.68]
["Itajaí","Curitiba",370,40.700000000000003,130.24]
["Itajaí","Joaçaba",400,44,140.80000000000001]
["Itajaí","Criciúma",496,{"$f":"C100*0.11","v":54.56},{"$f":"D100*$B$1","v":174.59200000000001}]
["Itajaí","Lages",596,65.56,209.79200000000003]
["Itajaí","Umurarama",768,84.48,270.33600000000001]
["Itajaí","Concórdia",888,97.68,312.57600000000002]
["Itajaí","Chapecó",1016,111.76,357.63200000000006]
["Itajaí","Caxias do Sul",1018,111.98,358.33600000000001]
["Itajaí","São Leopoldo",1102,121.22,387.904]
["Itajaí","Porto Alegre",1129,124.19,397.40800000000002]
["Itajaí","Passo Fundo",1176,129.36000000000001,413.95200000000006]
["Itajaí","Araranguá/SP",1200,132,422.40000000000003]
["Itajaí","Campinas/SP",1200,132,422.40000000000003]
["Itajaí","Erechim",1200,132,422.40000000000003]
["Itajaí","São Paulo",1230,135.30000000000001,432.96000000000004]
["Itapema","Balneário Camboriú",38,4.18,13.375999999999999]
["Itapema","São José",104,11.44,36.607999999999997]
["Itapema","Piçarras",106,11.66,37.312000000000005]
["Itapema","Florianópolis",116,12.76,40.832000000000001]
["Itapema","Brusque",120,13.2,42.24]
["Itapema","Blumenau",194,21.34,68.287999999999997]
["Navegantes","Itapema",79,8.69,27.808]
["Navegantes","Penha",121,13.31,42.592000000000006]
["Nova Trento","Bombinhas",170,18.7,59.84]
["Piçarras","Brusque",118,12.98,41.536000000000001]
["Piçarras","Joinville",150,16.5,52.800000000000004]
["Piçarras","Blumenau",154,16.940000000000001,54.208000000000006]
["Piçarras","Florianópolis",242,26.62,85.184000000000012]
["São José","Gov. Celso Ramos",87,9.57,30.624000000000002]
["São José","Porto Belo",114,12.540000000000001,40.128000000000007]
["São José","Santo Amaro",126,13.86,44.352000000000004]
["São José","Angelina",134,14.74,47.168000000000006]
["São José","Criciúma",382,42.02,134.46400000000003]
["Taquaras","Santo Amaro",209,22.99,73.567999999999998]
["Tijucas","Balneário Camboriú",74,{"$f":"C132*0.11","v":8.14},{"$f":"D132*$B$1","v":26.048000000000002}]
["Tijucas","São João Batista",76,8.36,26.751999999999999]
["Tijucas","Florianópolis",92,10.119999999999999,32.384]
["Tijucas","São José",108,11.88,38.016000000000005]
["Tijucas","Navegantes",110,12.1,38.72]
["Tijucas","Piçarras",126,13.86,44.352000000000004]
["Tijucas","Ilhota",140,15.4,49.28]
["Tijucas","Brusque",150,16.5,52.800000000000004]
["Tijucas","Brusque",152,16.72,53.503999999999998]
["Tijucas","Blumenau",194,21.34,68.287999999999997]
["Tijucas","Tubarão",292,32.119999999999997,102.78399999999999]
["Videira","Orleans",718,78.98,252.73600000000002]

{"sheet":"Valor Hora","index":5,"n_rows":41,"n_cols":10,"rows_kept":41,"cut":false,"hidden":true,"merged":[]}
["TABELA DE VALORES HORA / AULA",2013,2014,2015,2016,2016,2017,2018,2019,2021]
["Plano Antigo-Especialista-A1",28.226653499999998,{"$f":"(B2*6%)+B2","v":29.920252709999996},{"$f":"(C2*7.68%)+C2","v":32.218128118127993},{"$f":"(D2*5.86%)+D2","v":34.106110425850297},{"$f":"(E2*5.37%)+E2","v":35.937608555718455},{"$f":"(F2*5.21%)+F2","v":37.809957961471383},{"$f":"G2*1.0184","v":38.505661187962453},{"$f":"H2*1.0417","v":40.111347259500491},42.52]
["Plano Antigo-Especialista-A2",28.7736375,{"$f":"(B3*6%)+B3","v":30.500055749999998},{"$f":"(C3*7.68%)+C3","v":32.842460031599998},{"$f":"(D3*5.86%)+D3","v":34.767028189451757},{"$f":"(E3*5.37%)+E3","v":36.634017603225317},{"$f":"(F3*5.21%)+F3","v":38.542649920353355},{"$f":"G3*1.0184","v":39.251834678887853},{"$f":"H3*1.0417","v":40.88863618499748},43.33]
["Plano Antigo-Especialista-A3",29.468762999999999,31.236888779999997,33.635881838303995,35.606944514028612,37.519037434431951,39.473779284765854,{"$f":"G4*1.0184","v":40.200096823605541},41.876440861149895,44.37]
["Plano Antigo-Especialista-A4",30.015747000000001,31.816691820000003,34.260213751776,36.267862277630073,38.215446481938805,40.206471243647819,40.946270314530935,42.653729786646878,45.21]
["Plano Antigo-Especialista-A5",30.59,32.425399999999996,34.915670719999994,36.961729024191996,38.946573872791106,40.975690371563523,41.729643074400293,43.46976919060279,46.06]
["Plano Antigo-Mestre-B1",33.719284500000001,35.742441569999997,38.487461082575997,40.742826302014947,42.93071607443315,45.167406381911114,45.998486659338276,47.916623553032686,50.78]
["Plano Antigo-Mestre-B2",34.528365000000001,36.600066900000002,39.410952037919998,41.720433827342113,43.960821123870382,46.251179904424028,47.102201614665425,49.066363421996975,52.01]
["Plano Antigo-Mestre-B3",35.4286095,37.554326070000002,40.438498312176002,42.808194313269517,45.106994347892091,47.457068753417268,48.330278818480146,50.34565144521077,53.35]
["Plano Antigo-Mestre-B4",36.317458500000001,38.496506009999997,41.453037671567998,43.882185679121882,46.238659050090725,48.647693186600449,49.542810741233893,51.608745949143348,54.69]
["Plano Antigo-Mestre-B5",37.183516500000003,39.414527490000005,42.441563201232007,44.928638804824203,47.341306708643259,49.80778878816357,50.72425210186578,52.839453414513585,56]
["Plano Antigo-Doutor-C1",40.932636000000002,43.388594160000004,46.720838191488006,49.458679309509208,52.114610388429853,54.82978158966705,55.838649570916921,58.16712125802416,61.66]
["Plano Antigo-Doutor-C2",42.106372500000006,44.632754850000005,48.060550422480006,50.876898677237335,53.608988136204978,56.402016418101255,57.439813520194313,59.835053743986421,63.39]
["Plano Antigo-Doutor-C3",43.416855000000005,46.021866300000006,49.556345631840003,52.460347485865825,55.277468145856822,58.157424236255963,59.22752084220307,61.69730846132294,65.38]
["Plano Antigo-Doutor-C4",44.704546499999992,47.386819289999991,51.026127011471992,54.016258054344249,56.916931111862532,59.882303222790568,60.984137602089916,63.527176140097069,67.3]
["Plano Antigo-Especial-1",49.182977999999999,52.133956679999997,56.137844553023996,59.427522243831206,62.618780188324941,65.881218636136666,67.093433059041573,69.891229217603609,74.06]
["Plano Antigo-Especial-2",54.060251999999998,57.30386712,61.704804114816,65.320705635944222,68.828427528594432,72.414388602834208,73.746813353126356,76.822055469951735,81.430000000000007]
["Novo Plano-Prof.Colaborador-1",26.836402499999998,28.446586649999997,30.631284504719996,32.426277776696587,34.167568893305194,35.947699232646393,36.609136898527083,38.135737907195669,40.44]
["Novo Plano-Prof.Colaborador-2",30.665290500000001,32.505207930000005,35.001607899024002,37.052702121906812,39.042432225853204,41.076542944820154,41.832351335004844,43.576760385674547,46.17]
["Novo Plano-Prof.Colaborador-3",35.793265500000004,37.940861430000005,40.854719587824007,43.248806155670493,45.571267046229998,47.94553005933858,48.82772781243041,50.863844062208763,53.9]
["Novo Plano-Prof.Colaborador-4",48.556225500000004,51.469599030000005,55.422464235504002,58.670220639704539,61.82081148805667,65.041675766584419,66.238442600689567,69.00058565713833,73.12]
["Novo Plano-Professor I-Ingr.",28.739450999999999,30.463818059999998,32.803439287007997,34.725720829226667,36.590492037756135,38.496856672923229,39.205198835705019,40.840055627153923,43.26]
["Novo Plano-Professor I-A",29.400390000000002,31.164413400000001,33.557840349119999,35.524329793578431,37.431986303493595,39.382192789905609,40.106825137239873,41.77927974546278,44.27]
["Novo Plano-Professor I-B",30.027142500000004,31.828771050000004,34.27322066664,36.281631397705105,38.229955003761873,40.221735659457863,40.961815595591887,42.669923305928073,45.22]
["Novo Plano-Professor I-C",30.665290500000001,32.505207930000005,35.001607899024002,37.052702121906812,39.042432225853204,41.076542944820154,41.832351335004844,43.576760385674547,46.17]
["Novo Plano-Professor I-D",31.303438499999999,33.181644810000002,35.729995131408003,37.823772846108511,39.854909447944536,41.931350230182446,42.702887074417802,44.483597465421028,47.11]
["Novo Plano-Professor II-Ingr.",31.9415865,33.858081689999999,36.458382363791998,38.594843570310211,40.667386670035867,42.786157515544737,43.57342281383076,45.390434545167508,48.11]
["Novo Plano-Professor II-A",32.579734500000001,34.534518570000003,37.186769596176006,39.365914294511924,41.479863892127213,43.640964800907042,44.443958553243732,46.297271624913996,49.05]
["Novo Plano-Professor II-B",33.217882500000002,35.21095545,37.915156828560001,40.136985018713617,42.292341114218537,44.495772086269326,45.314494292656683,47.20410870466047,50.04]
["Novo Plano-Professor II-C",33.844634999999997,35.8753131,38.630537146080002,40.894286622840291,43.090309814486815,45.33531495582158,46.169484751008696,48.094752265125763,50.95]
["Novo Plano-Professor II-D",34.516969499999995,36.587987669999997,39.397945123055997,41.70666470726708,43.946312602047321,46.235915488613983,47.086656333604481,49.050169902715794,51.96]
["Novo Plano-Professor III-Ingr.",37.707709500000007,39.970172070000004,43.039881284976005,45.562018328275599,48.008698712504,50.509951915425461,51.439335030669291,53.584355301448205,56.8]
["Novo Plano-Professor III-A",40.260301499999997,42.675919589999999,45.953430214511997,48.646301225082397,51.258607600869318,53.929181056874611,54.921477988321101,57.211703620434093,60.6]
["Novo Plano-Professor III-B",42.812893499999994,45.381667109999995,48.866979144047995,51.730584121889208,54.508516489234658,57.348410198323784,58.403620945972939,60.839051939420017,64.459999999999994]
["Novo Plano-Professor III-C",45.365485499999998,48.087414629999998,51.780528073583994,54.81486701869602,57.758425377599998,60.767639339772956,61.885763903624778,64.46640025840594,68.319999999999993]
["Novo Plano-Professor III-D",47.929473000000002,50.805241379999998,54.707083917984001,57.912919035577865,61.022842787788399,64.202132897032172,65.383452142337561,68.109942096673038,72.2]
["Novo Plano-Professor IV-Ingr.",50.482064999999999,53.510988900000001,57.62063284752,60.997201932384669,64.272751676153732,67.621362038481337,68.865595099989392,71.737290415658961,76]
["Novo Plano-Professor IV-A",53.034656999999996,56.216736419999997,60.534181777055998,64.081484829191481,67.522660564519057,71.040591179930502,72.347738057641223,75.364638734644871,80.13]
["Novo Plano-Professor IV-B",55.575853500000001,58.910404710000002,63.434723791728004,67.151998605923268,70.758060931061351,74.444555905569644,75.814335734232117,78.975793534349606,83.7]
["Novo Plano-Professor IV-C",58.151236500000003,61.640310690000007,66.374286550992011,70.263819742880145,74.036986863072812,77.894313878638911,79.327569254005866,82.63552889189792,87.55]
["Novo Plano-Professor IV-D",60.703828500000007,64.34605821000001,69.287835480528003,73.348102639686942,77.286895751438138,81.313543020088062,{"$f":"G41*1.0184","v":82.809712211657683},86.262877210883815,91.43]

{"sheet":"Cálculo PF e PJ","index":6,"n_rows":30,"n_cols":13,"rows_kept":30,"cut":false,"hidden":true,"merged":[]}
["Pessoa Física","PF",null,null,null,null,"Docentes internos",null,null,null,"Coordenadores"]
["Nome","Valor Líquido"," 25% (INSS+ISS)","Valor bruto",null,null,"Nome ","Valor líquido","Valor Bruto",null,"Nome ","Valor líquido","Valor Bruto"]
[{"$f":"'Custos Pessoal'!#REF!","v":{"$error":"#REF!"}},{"$f":"'Custos Pessoal'!H42","v":0},{"$f":"D3-B3","v":0},{"$f":"B3/75%","v":0},null,null,{"$f":"'Custos Pessoal'!A18","v":0},{"$f":"'Custos Pessoal'!H18","v":0},{"$f":"H3*1.40944444","v":0},null,{"$f":"'Custos Pessoal'!A60","v":0},{"$f":"'Custos Pessoal'!H60","v":0},{"$f":"L3*1.40944444","v":0}]
[{"$f":"'Custos Pessoal'!#REF!","v":{"$error":"#REF!"}},{"$f":"'Custos Pessoal'!H43","v":0},{"$f":"D4-B4","v":0},{"$f":"B4/75%","v":0},null,null,{"$f":"'Custos Pessoal'!A19","v":0},{"$f":"'Custos Pessoal'!H19","v":0},{"$f":"H4*1.40944444","v":0},null,{"$f":"'Custos Pessoal'!A61","v":0},{"$f":"'Custos Pessoal'!H61","v":0},{"$f":"L4*1.40944444","v":0}]
[{"$f":"'Custos Pessoal'!#REF!","v":{"$error":"#REF!"}},{"$f":"'Custos Pessoal'!H44","v":0},{"$f":"D5-B5","v":0},{"$f":"B5/75%","v":0},null,null,{"$f":"'Custos Pessoal'!A20","v":0},{"$f":"'Custos Pessoal'!H20","v":0},0,null,null,{"$f":"SUM(L3:L4)","v":0},{"$f":"SUM(M3:M4)","v":0}]
[{"$f":"'Custos Pessoal'!#REF!","v":{"$error":"#REF!"}},{"$f":"'Custos Pessoal'!H45","v":0},{"$f":"D6-B6","v":0},{"$f":"B6/75%","v":0},null,null,{"$f":"'Custos Pessoal'!A21","v":0},{"$f":"'Custos Pessoal'!H21","v":0},0]
[null,{"$f":"'Custos Pessoal'!H46","v":0},{"$f":"D7-B7","v":0},{"$f":"B7/75%","v":0},null,null,{"$f":"'Custos Pessoal'!A22","v":0},{"$f":"'Custos Pessoal'!H22","v":0},0]
[null,{"$f":"'Custos Pessoal'!H47","v":0},0,0,null,null,{"$f":"'Custos Pessoal'!A23","v":0},{"$f":"'Custos Pessoal'!H23","v":0},0]
[null,{"$f":"SUM(B3:B8)","v":0},{"$f":"SUM(C3:C8)","v":0},{"$f":"SUM(D3:D8)","v":0},null,null,{"$f":"'Custos Pessoal'!A24","v":0},{"$f":"'Custos Pessoal'!H24","v":0},0]
[null,null,null,null,null,null,{"$f":"'Custos Pessoal'!A25","v":0},{"$f":"'Custos Pessoal'!H25","v":0},0]
[null,null,null,null,null,null,{"$f":"'Custos Pessoal'!A26","v":0},{"$f":"'Custos Pessoal'!H26","v":0},0]
[null,null,null,null,null,null,{"$f":"'Custos Pessoal'!A27","v":0},{"$f":"'Custos Pessoal'!H27","v":0},0]
[null,null,null,null,null,null,{"$f":"'Custos Pessoal'!A28","v":0},{"$f":"'Custos Pessoal'!H28","v":0},0]
[null,null,null,null,null,null,{"$f":"'Custos Pessoal'!A29","v":0},{"$f":"'Custos Pessoal'!H29","v":0},0]
[null,null,null,null,null,null,{"$f":"'Custos Pessoal'!A30","v":0},{"$f":"'Custos Pessoal'!H30","v":0},0]
[]
[]
[]
[]
[null,null,null,null,null,null,null,{"$f":"SUM(H3:H15)","v":0},{"$f":"SUM(I3:I15)","v":0}]
[]
[]
[null,null,null,null,null,null,"Funcionários"]
[null,null,null,null,null,null,"Nome ","Valor líquido","Valor Bruto"]
[null,null,null,null,null,null,{"$f":"'Custos Pessoal'!A34","v":0},{"$f":"'Custos Pessoal'!H34","v":0},{"$f":"H25*1.40944444","v":0}]
[null,null,null,null,null,null,{"$f":"'Custos Pessoal'!A35","v":0},{"$f":"'Custos Pessoal'!H35","v":0},{"$f":"H26*1.40944444","v":0}]
[null,null,null,null,null,null,{"$f":"'Custos Pessoal'!A36","v":0},{"$f":"'Custos Pessoal'!H36","v":0},0]
[null,null,null,null,null,null,{"$f":"'Custos Pessoal'!A37","v":0},{"$f":"'Custos Pessoal'!H37","v":0},0]
[null,null,null,null,null,null,{"$f":"'Custos Pessoal'!A38","v":0},{"$f":"'Custos Pessoal'!H38","v":0},0]
[null,null,null,null,null,null,null,{"$f":"SUM(H25:H29)","v":0},{"$f":"SUM(I25:I29)","v":0}]

{"sheet":"Espaços físicos","index":7,"n_rows":27,"n_cols":7,"rows_kept":27,"cut":false,"hidden":true,"merged":[]}
["Cód.","Espaço","Campus","Localização","Capacidade - lugares","R$/Hora"]
[101,"Auditório ","B. Camboriú","Bl. 4",200,33]
[102,"Auditório ","Biguaçu","Bl. 2",314,33,27]
[103,"Auditório ","São José",null,376,26]
[104,"Auditório ","Kobrasol",null,288,77,83]
[105,"Auditório ","Tijucas",null,150,28]
[106,"Auditório - Direito","Itajaí","D1",350,27]
[107,"Auditório III - Enfermagem/Psicologia","Itajaí","F4",133,16]
[108,"Auditório IV - Farmácia","Itajaí","E1",220,22]
[109,"Auditório I - Medicina","Itajaí","F4",214,22]
[110,"Auditório II - Medicina","Itajaí","F4",124,16]
[111,"Auditório ","Piçarras",null,150,22]
[112,"Auditório II","B. Camboriú","Bl. 7",516,100,109]
[113,"Auditório - Centro de Vivência","Itajaí",null,60,14]
[114,"Estúdio de áudio - Valor hora",null,null,null,98,97]
[115,"Entrega de panfletos",null,null,null,648,8]
[116,"Foyer","B. Camboriú","Bl. 7",null,810,57]
[117,"Laboratório de informática",null,null,null,121.5,39]
[118,"Laboratório TOCE (meio período)","Itajaí","F6",null,33]
[119,"Laboratório Cozinha Pedagógica","B. Camboriú",null,null,51]
[120,"Laboratório Botânica (Cttmar)","Itajaí","E2",null,16]
[121,"Sala de aula",null,null,null,8]
[122,"Sala de vídeo conferência (dias de semana com acompanhamento de funcionário da Univali)",null,null,null,12]
[123,"Sala de vídeo conferência (final de semana com acompanhamento de funcionário da Univali)",null,null,null,39,16]
[124,"Teatro Adelaide Konder","Itajaí","C",708,231]
[125,"Quadras - Valor hora",null,null,null,39,43]
[126,"Restaurante Bistrô do Sabor","Itajaí",null,null,68]